BEGIN:VCALENDAR
VERSION:2.0
PRODID:-//eventon.com NONSGML v1.0//EN
CALSCALE:GREGORIAN
METHOD:PUBLISH
BEGIN:VEVENT
UID:69e9924f34186
DTSTAMP:20260423T033023Z
DTSTART:20241017T123000Z
DTEND:20241017T140000Z
LOCATION:McGoldrick Center for Career &amp; Student Success 35 Bedford Street\,  Portland\,  ME
SUMMARY:MEREDA’s Morning Menu – Kicking Off Change - Exploring the Impact and Vision of Maine's Hearts of Pine
DESCRIPTION:Buffet Breakfast: 8:30-9:00 am Program: 9:00-10:00 am In-Person
  &#8211; Pre-registration is required. About the Event: On October 17th\,  
 MEREDA will host a breakfast event featuring a discussion with founding mem
 bers of Maine&#8217;s new soccer team\,  Hearts of Pine. The panel\,  inclu
 ding Catherine Culley\,  Co-Founder/Partner at Redfern Properties\,  Gabe H
 offman-Johnson\,  Founder/Chief[..]\nhttps://mereda.org/events/meredas-morn
 ing-menu-oct-2024/
URL:https://mereda.org/events/meredas-morning-menu-oct-2024/
END:VEVENT
END:VCALENDAR