BEGIN:VCALENDAR
VERSION:2.0
PRODID:-//eventon.com NONSGML v1.0//EN
CALSCALE:GREGORIAN
METHOD:PUBLISH
BEGIN:VEVENT
UID:69e9d47c00fed
DTSTAMP:20260423T081244Z
DTSTART:20251118T133000Z
DTEND:20251118T150000Z
LOCATION:McGoldrick Center for Career &amp; Student Success 35 Bedford Street\,  Portland\,  ME
SUMMARY:MEREDA’s Morning Menu – Deconstructing Portland’s Site Plan Process
DESCRIPTION:November 18\,  2025 &#8211; 8:30 &#8211; 10:00 amBuffet Breakfa
 st: 8:30-9:00 amProgram: 9:00-10:00 am Location: McGoldrick Career &amp; S
 tudent Success Center35 Bedford Street\,  Portland\,  ME About the Event:Pl
 ease join MEREDA for a conversation with Portland’s Planning Director Kev
 in Kraft\,  Fathom Companies’ VP of Development Marieke Thormann\,  and A
 corn Engineering Principal Will Savage.[..]\nhttps://mereda.org/events/mere
 das-morning-menu-nov-18-2025/
URL:https://mereda.org/events/meredas-morning-menu-nov-18-2025/
END:VEVENT
END:VCALENDAR