BEGIN:VCALENDAR
VERSION:2.0
PRODID:-//eventon.com NONSGML v1.0//EN
CALSCALE:GREGORIAN
METHOD:PUBLISH
BEGIN:VEVENT
UID:69e9d4bf0895b
DTSTAMP:20260423T081351Z
DTSTART:20251106T220000Z
DTEND:20251107T000000Z
LOCATION:Hilton Garden Inn Downtown Portland Waterfront 65 Commercial Street Portland
SUMMARY:MEREDA's Annual Fall Social is Back!
DESCRIPTION:About the Event: MEREDA’s Annual Fall Social returns on Novem
 ber 6!  Mark your calendar now to join us at the Hilton Garden Inn Portlan
 d Downtown Waterfront for another great “meet-and-greet” opportunity. 
 MEREDA’s networking events attract key players in Maine’s real estate i
 ndustry offering excellent opportunities to interact with the experts. Join
 [..]\nhttps://mereda.org/events/meredas-annual-fall-social-nov-6-2025/
URL:https://mereda.org/events/meredas-annual-fall-social-nov-6-2025/
END:VEVENT
END:VCALENDAR