BEGIN:VCALENDAR
VERSION:2.0
PRODID:-//eventon.com NONSGML v1.0//EN
CALSCALE:GREGORIAN
METHOD:PUBLISH
BEGIN:VEVENT
UID:69e844b811b6d
DTSTAMP:20260422T034704Z
DTSTART:20270225T133000Z
DTEND:20270225T220000Z
LOCATION:Holiday Inn by the Bay 88 Spring Street\,  Portland\,  ME
SUMMARY:MEREDA's 2027 Forecast Conference & Member Showcase
DESCRIPTION:Mark your calendar to join the movers and shakers of Maine’s 
 real estate industry on February 25th for MEREDA’s Forecast Conference &a
 mp; Member Showcase to be held at Holiday Inn By the Bay! A day filled with
  important conversations about the future of Maine’s real estate economy.
     Why Attend MEREDA’s[..]\nhttps://mereda.org/events/meredas-2027-fo
 recast-conference-member-showcase/
URL:https://mereda.org/events/meredas-2027-forecast-conference-member-showcase/
END:VEVENT
END:VCALENDAR